BEGIN:VCALENDAR
VERSION:2.0
BEGIN:VEVENT
DTSTART:2020-05-03T19:15+01:00
DTEND:2020-05-03T20:15+01:00
SUMMARY:Haselbury Trailrace
DESCRIPTION:
LOCATION:Haselbury Trailrace   , North Perrott CC, Crewkerne, Somerset, United Kingdom, TA18 7SJ 
END:VEVENT
END:VCALENDAR
